BEGIN:VCALENDAR
VERSION:2.0
PRODID:spatie/icalendar-generator
NAME:Showgrillieren mit Kochbuchautor Heiko Blumentritt [Luga 2026]
X-WR-CALNAME:Showgrillieren mit Kochbuchautor Heiko Blumentritt [Luga 2026]
BEGIN:VTIMEZONE
TZID:Europe/Zurich
BEGIN:STANDARD
DTSTART:20251026T030000
TZOFFSETFROM:+0200
TZOFFSETTO:+0100
END:STANDARD
BEGIN:DAYLIGHT
DTSTART:20260329T020000
TZOFFSETFROM:+0100
TZOFFSETTO:+0200
END:DAYLIGHT
BEGIN:STANDARD
DTSTART:20261025T030000
TZOFFSETFROM:+0200
TZOFFSETTO:+0100
END:STANDARD
END:VTIMEZONE
BEGIN:VTIMEZONE
TZID:UTC
BEGIN:STANDARD
DTSTART:20250728T212543
TZOFFSETFROM:+0000
TZOFFSETTO:+0000
END:STANDARD
END:VTIMEZONE
BEGIN:VEVENT
UID:69ebdfd7b755b
DTSTAMP:20260424T212543Z
DTSTART;TZID=Europe/Zurich:20260425T100000
DTEND;TZID=Europe/Zurich:20260425T110000
SUMMARY:Showgrillieren mit Kochbuchautor Heiko Blumentritt [Luga 2026]
DESCRIPTION:https://www.luga.ch/de/e/showgrillieren-mit-kochbuchautor-heiko
 -blumentritt.80189\n\nDer beliebte Kochbuchautor und Grillprofi Heiko Blum
 entritt grilliert live in der Barbecue Arena! Lass dich inspirieren und de
 gustiere seine feinen Leckereien vom Grill.
LOCATION:Vorzone
END:VEVENT
END:VCALENDAR