BEGIN:VCALENDAR
VERSION:2.0
PRODID:spatie/icalendar-generator
NAME:Obwaldner Jung-Juizer [Luga 2026]
X-WR-CALNAME:Obwaldner Jung-Juizer [Luga 2026]
BEGIN:VTIMEZONE
TZID:Europe/Zurich
BEGIN:STANDARD
DTSTART:20251026T030000
TZOFFSETFROM:+0200
TZOFFSETTO:+0100
END:STANDARD
BEGIN:DAYLIGHT
DTSTART:20260329T020000
TZOFFSETFROM:+0100
TZOFFSETTO:+0200
END:DAYLIGHT
BEGIN:STANDARD
DTSTART:20261025T030000
TZOFFSETFROM:+0200
TZOFFSETTO:+0100
END:STANDARD
END:VTIMEZONE
BEGIN:VTIMEZONE
TZID:UTC
BEGIN:STANDARD
DTSTART:20250729T143039
TZOFFSETFROM:+0000
TZOFFSETTO:+0000
END:STANDARD
END:VTIMEZONE
BEGIN:VEVENT
UID:69ecd00fc37cf
DTSTAMP:20260425T143039Z
DTSTART;TZID=Europe/Zurich:20260425T133000
DTEND;TZID=Europe/Zurich:20260425T140000
SUMMARY:Obwaldner Jung-Juizer [Luga 2026]
DESCRIPTION:https://www.luga.ch/de/e/obwaldner-jung-juizer.79713\n\nDie Obw
 aldner Jung-Juizer\, ist eine Gruppe Kinder und Jugendliche aus dem Kanton
  Obwalden\, die Freude am Jodeln und Singen haben. Geniesse die fröhliche
  Schar auf der Eventbühne.
LOCATION:Halle 5\, Eventbühne
END:VEVENT
END:VCALENDAR