BEGIN:VCALENDAR
VERSION:2.0
PRODID:spatie/icalendar-generator
NAME:Alphorntrio Gräfimatt Kerns & Obwaldner Ländlertrio [Luga 2026]
X-WR-CALNAME:Alphorntrio Gräfimatt Kerns & Obwaldner Ländlertrio [Luga 20
 26]
BEGIN:VTIMEZONE
TZID:Europe/Zurich
BEGIN:STANDARD
DTSTART:20251026T030000
TZOFFSETFROM:+0200
TZOFFSETTO:+0100
END:STANDARD
BEGIN:DAYLIGHT
DTSTART:20260329T020000
TZOFFSETFROM:+0100
TZOFFSETTO:+0200
END:DAYLIGHT
BEGIN:STANDARD
DTSTART:20261025T030000
TZOFFSETFROM:+0200
TZOFFSETTO:+0100
END:STANDARD
END:VTIMEZONE
BEGIN:VTIMEZONE
TZID:UTC
BEGIN:STANDARD
DTSTART:20250729T131929
TZOFFSETFROM:+0000
TZOFFSETTO:+0000
END:STANDARD
END:VTIMEZONE
BEGIN:VEVENT
UID:69ecbf618fe6f
DTSTAMP:20260425T131929Z
DTSTART;TZID=Europe/Zurich:20260425T123000
DTEND;TZID=Europe/Zurich:20260425T130000
SUMMARY:Alphorntrio Gräfimatt Kerns & Obwaldner Ländlertrio [Luga 2026]
DESCRIPTION:https://www.luga.ch/de/e/alphorntrio-graefimatt-kerns-obwaldner
 -laendlertrio.79517\n\nDich erwarten gleich zwei Formationen mit gelebter 
 Schweizer Volksmusik: schwungvoller Ländler und stimmungsvolle Alphornkl
 änge. Freu dich auf abwechslungsreiche Tradition auf unserer Eventbühne.
LOCATION:Halle 5\, Eventbühne
END:VEVENT
END:VCALENDAR