BEGIN:VCALENDAR
VERSION:2.0
PRODID:spatie/icalendar-generator
NAME:Musical Factory – From Broadway to Switzerland [Luga 2026]
X-WR-CALNAME:Musical Factory – From Broadway to Switzerland [Luga 2026]
BEGIN:VTIMEZONE
TZID:Europe/Zurich
BEGIN:STANDARD
DTSTART:20251026T030000
TZOFFSETFROM:+0200
TZOFFSETTO:+0100
END:STANDARD
BEGIN:DAYLIGHT
DTSTART:20260329T020000
TZOFFSETFROM:+0100
TZOFFSETTO:+0200
END:DAYLIGHT
BEGIN:STANDARD
DTSTART:20261025T030000
TZOFFSETFROM:+0200
TZOFFSETTO:+0100
END:STANDARD
END:VTIMEZONE
BEGIN:VTIMEZONE
TZID:UTC
BEGIN:STANDARD
DTSTART:20250729T131309
TZOFFSETFROM:+0000
TZOFFSETTO:+0000
END:STANDARD
END:VTIMEZONE
BEGIN:VEVENT
UID:69ecbde5c9a5d
DTSTAMP:20260425T131309Z
DTSTART;TZID=Europe/Zurich:20260425T130000
DTEND;TZID=Europe/Zurich:20260425T133000
SUMMARY:Musical Factory – From Broadway to Switzerland [Luga 2026]
DESCRIPTION:https://www.luga.ch/de/e/musical-factory-from-broadway-to-switz
 erland.78919\n\nDie Lernenden des 3. Lehrjahres der Berufslehre Bühnentä
 nzer/In und des Berufsvorstudiums präsentieren Songs und Duette aus bekan
 nten Musicals wie «Little Shop of Horrors»\, «Chess»\, «Wicked» und 
 «Ewigi Liebi».
LOCATION:Halle 5\, Eventbühne
END:VEVENT
END:VCALENDAR