BEGIN:VCALENDAR
VERSION:2.0
PRODID:spatie/icalendar-generator
NAME:Schaumelken [Luga 2026]
X-WR-CALNAME:Schaumelken [Luga 2026]
BEGIN:VTIMEZONE
TZID:Europe/Zurich
BEGIN:STANDARD
DTSTART:20251026T030000
TZOFFSETFROM:+0200
TZOFFSETTO:+0100
END:STANDARD
BEGIN:DAYLIGHT
DTSTART:20260329T020000
TZOFFSETFROM:+0100
TZOFFSETTO:+0200
END:DAYLIGHT
BEGIN:STANDARD
DTSTART:20261025T030000
TZOFFSETFROM:+0200
TZOFFSETTO:+0100
END:STANDARD
END:VTIMEZONE
BEGIN:VTIMEZONE
TZID:UTC
BEGIN:STANDARD
DTSTART:20250726T092207
TZOFFSETFROM:+0000
TZOFFSETTO:+0000
END:STANDARD
END:VTIMEZONE
BEGIN:VEVENT
UID:69e8933f907f8
DTSTAMP:20260422T092207Z
DTSTART;TZID=Europe/Zurich:20260425T170000
DTEND;TZID=Europe/Zurich:20260425T171500
SUMMARY:Schaumelken [Luga 2026]
DESCRIPTION:https://www.luga.ch/de/e/schaumelken.78494\n\nWie entsteht eige
 ntlich Milch? Diese und weitere Fragen rund um die Milchproduktion beantwo
 rtet Landwirtschaftsexperte Remo Petermann beim täglichen Schaumelken im 
 Bauernhof.
LOCATION:Halle 11\, Bauernhof
END:VEVENT
END:VCALENDAR