BEGIN:VCALENDAR
VERSION:2.0
PRODID:spatie/icalendar-generator
NAME:Säulirennen [Luga 2026]
X-WR-CALNAME:Säulirennen [Luga 2026]
BEGIN:VTIMEZONE
TZID:Europe/Zurich
BEGIN:STANDARD
DTSTART:20251026T030000
TZOFFSETFROM:+0200
TZOFFSETTO:+0100
END:STANDARD
BEGIN:DAYLIGHT
DTSTART:20260329T020000
TZOFFSETFROM:+0100
TZOFFSETTO:+0200
END:DAYLIGHT
BEGIN:STANDARD
DTSTART:20261025T030000
TZOFFSETFROM:+0200
TZOFFSETTO:+0100
END:STANDARD
END:VTIMEZONE
BEGIN:VTIMEZONE
TZID:UTC
BEGIN:STANDARD
DTSTART:20250726T093435
TZOFFSETFROM:+0000
TZOFFSETTO:+0000
END:STANDARD
END:VTIMEZONE
BEGIN:VEVENT
UID:69e8962be422d
DTSTAMP:20260422T093435Z
DTSTART;TZID=Europe/Zurich:20260425T153000
DTEND;TZID=Europe/Zurich:20260425T154500
SUMMARY:Säulirennen [Luga 2026]
DESCRIPTION:https://www.luga.ch/de/e/saeulirennen.78473\n\nWas wäre die Lu
 ga ohne das legendäre Säulirennen? Auch dieses Jahr sind die jungen Säu
 li wieder in Startposition und laufen zweimal täglich um die Wette. Und a
 uch du kannst mitwetten und mit etwas Glück gewinnen.
LOCATION:Halle 12\, Arena
END:VEVENT
END:VCALENDAR