BEGIN:VCALENDAR
VERSION:2.0
PRODID:spatie/icalendar-generator
NAME:Time-out-Wochenende für Familien in Zeiten der Trauer [Luga-Club]
X-WR-CALNAME:Time-out-Wochenende für Familien in Zeiten der Trauer [Luga-C
 lub]
BEGIN:VTIMEZONE
TZID:Europe/Zurich
BEGIN:DAYLIGHT
DTSTART:20200329T020000
TZOFFSETFROM:+0100
TZOFFSETTO:+0200
END:DAYLIGHT
BEGIN:STANDARD
DTSTART:20201025T030000
TZOFFSETFROM:+0200
TZOFFSETTO:+0100
END:STANDARD
BEGIN:DAYLIGHT
DTSTART:20210328T020000
TZOFFSETFROM:+0100
TZOFFSETTO:+0200
END:DAYLIGHT
END:VTIMEZONE
BEGIN:VTIMEZONE
TZID:UTC
BEGIN:STANDARD
DTSTART:20250726T091318
TZOFFSETFROM:+0000
TZOFFSETTO:+0000
END:STANDARD
END:VTIMEZONE
BEGIN:VEVENT
UID:69e8912edd4a7
DTSTAMP:20260422T091318Z
DTSTART;TZID=Europe/Zurich:20201009T150000
DTEND;TZID=Europe/Zurich:20201011T120000
SUMMARY:Time-out-Wochenende für Familien in Zeiten der Trauer [Luga-Club]
DESCRIPTION:https://www.luga.ch/de/e/time-out-wochenende-fuer-familien-in-z
 eiten-der-trauer.6374\n\nWir laden Sie ein in der wunderschönen Moorlands
 chaft zu ruhen oder aktiv zu sein\, abzuschalten und neue Energie zu tanke
 n. Erleben Sie als Familie gemeinsame Unternehmungen\, begleitete Wanderun
 gen und eine professionelle Begleitung\, falls Trauergefühle überhandneh
 men sollten.
END:VEVENT
END:VCALENDAR