BEGIN:VCALENDAR
VERSION:2.0
PRODID:spatie/icalendar-generator
NAME:Fredy Pi. & Joli [Luga 2025]
X-WR-CALNAME:Fredy Pi. & Joli [Luga 2025]
BEGIN:VTIMEZONE
TZID:Europe/Zurich
BEGIN:STANDARD
DTSTART:20241027T030000
TZOFFSETFROM:+0200
TZOFFSETTO:+0100
END:STANDARD
BEGIN:DAYLIGHT
DTSTART:20250330T020000
TZOFFSETFROM:+0100
TZOFFSETTO:+0200
END:DAYLIGHT
BEGIN:STANDARD
DTSTART:20251026T030000
TZOFFSETFROM:+0200
TZOFFSETTO:+0100
END:STANDARD
END:VTIMEZONE
BEGIN:VTIMEZONE
TZID:UTC
BEGIN:STANDARD
DTSTART:20250725T121241
TZOFFSETFROM:+0000
TZOFFSETTO:+0000
END:STANDARD
END:VTIMEZONE
BEGIN:VEVENT
UID:69e769b92de89
DTSTAMP:20260421T121241Z
DTSTART;TZID=Europe/Zurich:20250425T150000
DTEND;TZID=Europe/Zurich:20250425T160000
SUMMARY:Fredy Pi. & Joli [Luga 2025]
DESCRIPTION:https://www.luga.ch/de/e/fredy-pi-joli.62209\n\nMit akustischer
  Gitarre und ihren Stimmen rocken sich Fredy Pi. & Joli durch die goldenen
  Zeiten der Rock- und Popmusik.
LOCATION:Halle 5\, Eventbühne
END:VEVENT
END:VCALENDAR