BEGIN:VCALENDAR
VERSION:2.0
PRODID:spatie/icalendar-generator
NAME:«urchig und lüpfig» [Luga 2025]
X-WR-CALNAME:«urchig und lüpfig» [Luga 2025]
BEGIN:VTIMEZONE
TZID:Europe/Zurich
BEGIN:STANDARD
DTSTART:20241027T030000
TZOFFSETFROM:+0200
TZOFFSETTO:+0100
END:STANDARD
BEGIN:DAYLIGHT
DTSTART:20250330T020000
TZOFFSETFROM:+0100
TZOFFSETTO:+0200
END:DAYLIGHT
BEGIN:STANDARD
DTSTART:20251026T030000
TZOFFSETFROM:+0200
TZOFFSETTO:+0100
END:STANDARD
END:VTIMEZONE
BEGIN:VTIMEZONE
TZID:UTC
BEGIN:STANDARD
DTSTART:20250724T003950
TZOFFSETFROM:+0000
TZOFFSETTO:+0000
END:STANDARD
END:VTIMEZONE
BEGIN:VEVENT
UID:69e575d655331
DTSTAMP:20260420T003950Z
DTSTART;TZID=Europe/Zurich:20250426T150000
DTEND;TZID=Europe/Zurich:20250426T210000
SUMMARY:«urchig und lüpfig» [Luga 2025]
DESCRIPTION:https://www.luga.ch/de/e/urchig-und-luepfig.61390\n\nFür urchi
 ge und lüpfige Klänge sorgen die Kapelle Saperlott\, das Echo vom Riedbo
 dä und das Ländlertrio Krienbühl-Wehrli-Bründler. Sie bringen traditio
 nelle Innerschweizer Volksmusik an die Luga.
LOCATION:Halle 9\, Restaurant «Chalet»
END:VEVENT
END:VCALENDAR