BEGIN:VCALENDAR
VERSION:2.0
PRODID:spatie/icalendar-generator
NAME:Autogrammstunde mit Schwingerkönig Joel Wicki [Luga 2024]
X-WR-CALNAME:Autogrammstunde mit Schwingerkönig Joel Wicki [Luga 2024]
BEGIN:VTIMEZONE
TZID:Europe/Zurich
BEGIN:STANDARD
DTSTART:20231029T030000
TZOFFSETFROM:+0200
TZOFFSETTO:+0100
END:STANDARD
BEGIN:DAYLIGHT
DTSTART:20240331T020000
TZOFFSETFROM:+0100
TZOFFSETTO:+0200
END:DAYLIGHT
BEGIN:STANDARD
DTSTART:20241027T030000
TZOFFSETFROM:+0200
TZOFFSETTO:+0100
END:STANDARD
END:VTIMEZONE
BEGIN:VTIMEZONE
TZID:UTC
BEGIN:STANDARD
DTSTART:20250726T054623
TZOFFSETFROM:+0000
TZOFFSETTO:+0000
END:STANDARD
END:VTIMEZONE
BEGIN:VEVENT
UID:69e860af3fa15
DTSTAMP:20260422T054623Z
DTSTART;TZID=Europe/Zurich:20240501T133000
DTEND;TZID=Europe/Zurich:20240501T143000
SUMMARY:Autogrammstunde mit Schwingerkönig Joel Wicki [Luga 2024]
DESCRIPTION:https://www.luga.ch/de/e/autogrammstunde-mit-schwingerkoenig-jo
 el-wicki.51620\n\nSchwingerkönig Joel Wicki geniesst eine grosse Sympathi
 e und ist für viele ein Vorbild. Am 1. Mai ist der König persönlich fü
 r eine Autogrammstunde vor Ort.
LOCATION:Halle 13\, Määrthalle
END:VEVENT
END:VCALENDAR